BEGIN:VCALENDAR
VERSION:2.0
PRODID:-//jednadvacet.org//Kalendář//CS
METHOD:PUBLISH
X-WR-CALNAME:jednadvacet.org — všechny akce
X-WR-TIMEZONE:Europe/Prague
BEGIN:VEVENT
SUMMARY:Test — schůze 21 Praha
DTSTART;TZID=Europe/Prague:20260426T162123
DTEND;TZID=Europe/Prague:20260426T182123
DTSTAMP:20260423T233615Z
UID:event-1@calendar.jednadvacet.org
CREATED:20260423T202123Z
DESCRIPTION:Testovací akce\, lze smazat.
LAST-MODIFIED:20260423T202123Z
LOCATION:Klub XY\, Praha 7 | Praha
END:VEVENT
BEGIN:VEVENT
SUMMARY:Test — online diskuse (celorep.)
DTSTART;TZID=Europe/Prague:20260429T172123
DTEND;TZID=Europe/Prague:20260429T185123
DTSTAMP:20260423T233615Z
UID:event-2@calendar.jednadvacet.org
CREATED:20260423T202123Z
DESCRIPTION:Celorepubliková online akce.
LAST-MODIFIED:20260423T202123Z
LOCATION:https://meet.example.com/123 | Celorepublikové / online
END:VEVENT
BEGIN:VEVENT
SUMMARY:Test — akce ve více městech
DTSTART;TZID=Europe/Prague:20260501T082123
DTEND;TZID=Europe/Prague:20260501T102123
DTSTAMP:20260423T233615Z
UID:event-3@calendar.jednadvacet.org
CREATED:20260423T202123Z
DESCRIPTION:Akce v Praze i Brně zároveň.
LAST-MODIFIED:20260423T202123Z
LOCATION:Brno\, Praha
END:VEVENT
END:VCALENDAR
